BEGIN:VCALENDAR
VERSION:2.0
CALSCALE:GREGORIAN
BEGIN:VEVENT
URL:https://www.learndesk.us/class/4578978356527104/dell-emc-vnx-storage-administration?ref=outlook-calendar
SUMMARY:Dell EMC VNX Storage Administration
DTSTART;TZID=America/Los_Angeles:20260421T190000
DTEND;TZID=America/Los_Angeles:20260421T200000
LOCATION:https://www.learndesk.us/class/4578978356527104/dell-emc-vnx-storage-administration?ref=outlook-calendar
DESCRIPTION: 
This course covers the configuration and management aspects of Dell EMC VNX Storage Solutions.
It is beneficial to storage professionals who are deploying and managing VNX Unified Storage in Windows, Linux, and Virtual Environments.
VNX unified architecture offers block and file-level storage services.  This section will cover the VNX overview, fundamentals, use cases, VNX Hardware and software suites, and licensing features.


https://www.learndesk.us/class/4578978356527104/dell-emc-vnx-storage-administration?ref=outlook-calendar
STATUS:CONFIRMED
SEQUENCE:3
BEGIN:VALARM
TRIGGER:-PT10M
DESCRIPTION:Class Reminder
ACTION:DISPLAY
END:VALARM
END:VEVENT
END:VCALENDAR