BEGIN:VCALENDAR
VERSION:2.0
CALSCALE:GREGORIAN
BEGIN:VEVENT
URL:https://www.learndesk.us/class/4578514198069248/lesson/22b9a66c0e0819eed88ff9564414bb73?ref=outlook-calendar
SUMMARY:Lets Start
DTSTART;TZID=America/Los_Angeles:20260421T190000
DTEND;TZID=America/Los_Angeles:20260421T200000
LOCATION:https://www.learndesk.us/class/4578514198069248/lesson/22b9a66c0e0819eed88ff9564414bb73?ref=outlook-calendar
DESCRIPTION: We will Host this Session in Zoom, After the Session, you will be able to see the Recording as well

https://www.learndesk.us/class/4578514198069248/lesson/22b9a66c0e0819eed88ff9564414bb73?ref=outlook-calendar
STATUS:CONFIRMED
SEQUENCE:3
BEGIN:VALARM
TRIGGER:-PT10M
DESCRIPTION:Class Reminder
ACTION:DISPLAY
END:VALARM
END:VEVENT
END:VCALENDAR