BEGIN:VCALENDAR
VERSION:2.0
CALSCALE:GREGORIAN
BEGIN:VEVENT
URL:https://www.learndesk.us/class/4578514198069248/lesson/021f2aee1eb764de0cfed181f22a6302?ref=outlook-calendar
SUMMARY:Live Workshop Zoom Details
DTSTART;TZID=America/Los_Angeles:20260421T190000
DTEND;TZID=America/Los_Angeles:20260421T200000
LOCATION:https://www.learndesk.us/class/4578514198069248/lesson/021f2aee1eb764de0cfed181f22a6302?ref=outlook-calendar
DESCRIPTION: Hi there,
You are invited to a Zoom meeting.
When: Sep 19, 2021, 10:30 PM India Register in advance for this meeting:
Zoom Meeting Link&nbsp;
After registering, you will receive a confirmation email containing information about joining the meeting.

https://www.learndesk.us/class/4578514198069248/lesson/021f2aee1eb764de0cfed181f22a6302?ref=outlook-calendar
STATUS:CONFIRMED
SEQUENCE:3
BEGIN:VALARM
TRIGGER:-PT10M
DESCRIPTION:Class Reminder
ACTION:DISPLAY
END:VALARM
END:VEVENT
END:VCALENDAR