BEGIN:VCALENDAR
VERSION:2.0
CALSCALE:GREGORIAN
BEGIN:VEVENT
URL:https://www.learndesk.us/class/4578514198069248/understand-the-basic-of-vedic-astrology?ref=outlook-calendar
SUMMARY:Understand the Basic of Vedic Astrology
DTSTART;TZID=America/Los_Angeles:20260421T190000
DTEND;TZID=America/Los_Angeles:20260421T200000
LOCATION:https://www.learndesk.us/class/4578514198069248/understand-the-basic-of-vedic-astrology?ref=outlook-calendar
DESCRIPTION: Welcome to this course understand the basics of Vedic astrology
Time Duration is 2 Hours (Approx) it may extend if question and answer are more
What will you learn in this course?

Understanding the Basic of Astrology
Understanding Signs (Rashi in Vedic Astrology)
Understanding Planets in Vedic Astrology
How to Caste a Vedic Chart?
How to See a Vedic Chart?
Discuss all Houses or Bhava in Astrology
Importance of Moon, How to Use in Daily Life
Importance of Sun and Use it to Understand Our Relationships


https://www.learndesk.us/class/4578514198069248/understand-the-basic-of-vedic-astrology?ref=outlook-calendar
STATUS:CONFIRMED
SEQUENCE:3
BEGIN:VALARM
TRIGGER:-PT10M
DESCRIPTION:Class Reminder
ACTION:DISPLAY
END:VALARM
END:VEVENT
END:VCALENDAR