BEGIN:VCALENDAR
VERSION:2.0
CALSCALE:GREGORIAN
BEGIN:VEVENT
URL:https://www.learndesk.us/class/4557596805562368/lesson/b84ab38376966f7534b6daa7228d2d2c?ref=outlook-calendar
SUMMARY:Calculate tip
DTSTART;TZID=America/Los_Angeles:20260421T190000
DTEND;TZID=America/Los_Angeles:20260421T200000
LOCATION:https://www.learndesk.us/class/4557596805562368/lesson/b84ab38376966f7534b6daa7228d2d2c?ref=outlook-calendar
DESCRIPTION: https://www.learndesk.us/class/4557596805562368/lesson/b84ab38376966f7534b6daa7228d2d2c?ref=outlook-calendar
STATUS:CONFIRMED
SEQUENCE:3
BEGIN:VALARM
TRIGGER:-PT10M
DESCRIPTION:Class Reminder
ACTION:DISPLAY
END:VALARM
END:VEVENT
END:VCALENDAR