BEGIN:VCALENDAR
VERSION:2.0
CALSCALE:GREGORIAN
BEGIN:VEVENT
URL:https://www.learndesk.us/class/4557596805562368/lesson/53d28ed49accf718de8029e181a7b424?ref=outlook-calendar
SUMMARY:Scan Amazon: https://bit.ly/2pXXAW4
DTSTART;TZID=America/Los_Angeles:20260421T190000
DTEND;TZID=America/Los_Angeles:20260421T200000
LOCATION:https://www.learndesk.us/class/4557596805562368/lesson/53d28ed49accf718de8029e181a7b424?ref=outlook-calendar
DESCRIPTION: Link: https://bit.ly/2pXXAW4

https://www.learndesk.us/class/4557596805562368/lesson/53d28ed49accf718de8029e181a7b424?ref=outlook-calendar
STATUS:CONFIRMED
SEQUENCE:3
BEGIN:VALARM
TRIGGER:-PT10M
DESCRIPTION:Class Reminder
ACTION:DISPLAY
END:VALARM
END:VEVENT
END:VCALENDAR