BEGIN:VCALENDAR
VERSION:2.0
CALSCALE:GREGORIAN
BEGIN:VEVENT
URL:https://www.learndesk.us/class/4547143727579136/lesson/f401dde2f683f8c453758a8d281e008d?ref=outlook-calendar
SUMMARY:9. Keyword Research - Using SEMrush, Ahrefs & Keywords Everywhere
DTSTART;TZID=America/Los_Angeles:20260421T190000
DTEND;TZID=America/Los_Angeles:20260421T200000
LOCATION:https://www.learndesk.us/class/4547143727579136/lesson/f401dde2f683f8c453758a8d281e008d?ref=outlook-calendar
DESCRIPTION: https://www.learndesk.us/class/4547143727579136/lesson/f401dde2f683f8c453758a8d281e008d?ref=outlook-calendar
STATUS:CONFIRMED
SEQUENCE:3
BEGIN:VALARM
TRIGGER:-PT10M
DESCRIPTION:Class Reminder
ACTION:DISPLAY
END:VALARM
END:VEVENT
END:VCALENDAR