BEGIN:VCALENDAR
VERSION:2.0
CALSCALE:GREGORIAN
BEGIN:VEVENT
URL:https://www.learndesk.us/class/4547143727579136/lesson/c79eb7c58cb8aa31aef6399a224c8ca0?ref=outlook-calendar
SUMMARY:4. Using Ahrefs To View Current Site Performance
DTSTART;TZID=America/Los_Angeles:20260422T190000
DTEND;TZID=America/Los_Angeles:20260422T200000
LOCATION:https://www.learndesk.us/class/4547143727579136/lesson/c79eb7c58cb8aa31aef6399a224c8ca0?ref=outlook-calendar
DESCRIPTION: https://www.learndesk.us/class/4547143727579136/lesson/c79eb7c58cb8aa31aef6399a224c8ca0?ref=outlook-calendar
STATUS:CONFIRMED
SEQUENCE:3
BEGIN:VALARM
TRIGGER:-PT10M
DESCRIPTION:Class Reminder
ACTION:DISPLAY
END:VALARM
END:VEVENT
END:VCALENDAR