BEGIN:VCALENDAR
VERSION:2.0
CALSCALE:GREGORIAN
BEGIN:VEVENT
URL:https://www.learndesk.us/class/4547143727579136/lesson/a060d9742d2f84d7eb24f0684a599637?ref=outlook-calendar
SUMMARY:19. How To Add Schema To You Store
DTSTART;TZID=America/Los_Angeles:20260421T190000
DTEND;TZID=America/Los_Angeles:20260421T200000
LOCATION:https://www.learndesk.us/class/4547143727579136/lesson/a060d9742d2f84d7eb24f0684a599637?ref=outlook-calendar
DESCRIPTION: https://www.learndesk.us/class/4547143727579136/lesson/a060d9742d2f84d7eb24f0684a599637?ref=outlook-calendar
STATUS:CONFIRMED
SEQUENCE:3
BEGIN:VALARM
TRIGGER:-PT10M
DESCRIPTION:Class Reminder
ACTION:DISPLAY
END:VALARM
END:VEVENT
END:VCALENDAR