BEGIN:VCALENDAR
VERSION:2.0
CALSCALE:GREGORIAN
BEGIN:VEVENT
URL:https://www.learndesk.us/class/4547143727579136/lesson/5b6b450fc36eda7e0f7bf5d383944c75?ref=outlook-calendar
SUMMARY:3. Setting Up Your Audit Tools
DTSTART;TZID=America/Los_Angeles:20260422T190000
DTEND;TZID=America/Los_Angeles:20260422T200000
LOCATION:https://www.learndesk.us/class/4547143727579136/lesson/5b6b450fc36eda7e0f7bf5d383944c75?ref=outlook-calendar
DESCRIPTION: https://www.learndesk.us/class/4547143727579136/lesson/5b6b450fc36eda7e0f7bf5d383944c75?ref=outlook-calendar
STATUS:CONFIRMED
SEQUENCE:3
BEGIN:VALARM
TRIGGER:-PT10M
DESCRIPTION:Class Reminder
ACTION:DISPLAY
END:VALARM
END:VEVENT
END:VCALENDAR