BEGIN:VCALENDAR
VERSION:2.0
CALSCALE:GREGORIAN
BEGIN:VEVENT
URL:https://www.learndesk.us/class/4547143727579136/lesson/30e55bdbdc81bc3b9391b7a13316f5c8?ref=outlook-calendar
SUMMARY:1. Introduction - Who We Are And Why Did We Create This Course
DTSTART;TZID=America/Los_Angeles:20260422T190000
DTEND;TZID=America/Los_Angeles:20260422T200000
LOCATION:https://www.learndesk.us/class/4547143727579136/lesson/30e55bdbdc81bc3b9391b7a13316f5c8?ref=outlook-calendar
DESCRIPTION: https://www.learndesk.us/class/4547143727579136/lesson/30e55bdbdc81bc3b9391b7a13316f5c8?ref=outlook-calendar
STATUS:CONFIRMED
SEQUENCE:3
BEGIN:VALARM
TRIGGER:-PT10M
DESCRIPTION:Class Reminder
ACTION:DISPLAY
END:VALARM
END:VEVENT
END:VCALENDAR