BEGIN:VCALENDAR
VERSION:2.0
CALSCALE:GREGORIAN
BEGIN:VEVENT
URL:https://www.learndesk.us/class/4540817106534400/lesson/91b2aab37ffac9baa90f04eb2d2e91a8?ref=outlook-calendar
SUMMARY:”iang” & ”xiang vs shang”
DTSTART;TZID=America/Los_Angeles:20260421T190000
DTEND;TZID=America/Los_Angeles:20260421T200000
LOCATION:https://www.learndesk.us/class/4540817106534400/lesson/91b2aab37ffac9baa90f04eb2d2e91a8?ref=outlook-calendar
DESCRIPTION: https://www.learndesk.us/class/4540817106534400/lesson/91b2aab37ffac9baa90f04eb2d2e91a8?ref=outlook-calendar
STATUS:CONFIRMED
SEQUENCE:3
BEGIN:VALARM
TRIGGER:-PT10M
DESCRIPTION:Class Reminder
ACTION:DISPLAY
END:VALARM
END:VEVENT
END:VCALENDAR