BEGIN:VCALENDAR
VERSION:2.0
CALSCALE:GREGORIAN
BEGIN:VEVENT
URL:https://www.learndesk.us/class/4510222909440000/lesson/de814eb9276988a78a2e229c80c862d1?ref=outlook-calendar
SUMMARY:Configure Management Network of ESXi Host
DTSTART;TZID=America/Los_Angeles:20260420T190000
DTEND;TZID=America/Los_Angeles:20260420T200000
LOCATION:https://www.learndesk.us/class/4510222909440000/lesson/de814eb9276988a78a2e229c80c862d1?ref=outlook-calendar
DESCRIPTION: https://www.learndesk.us/class/4510222909440000/lesson/de814eb9276988a78a2e229c80c862d1?ref=outlook-calendar
STATUS:CONFIRMED
SEQUENCE:3
BEGIN:VALARM
TRIGGER:-PT10M
DESCRIPTION:Class Reminder
ACTION:DISPLAY
END:VALARM
END:VEVENT
END:VCALENDAR