BEGIN:VCALENDAR
VERSION:2.0
CALSCALE:GREGORIAN
BEGIN:VEVENT
URL:https://www.learndesk.us/class/4510222909440000/lesson/cd7f2b989e793f87038c3e91037a805f?ref=outlook-calendar
SUMMARY:Virtualization Introduction
DTSTART;TZID=America/Los_Angeles:20260420T190000
DTEND;TZID=America/Los_Angeles:20260420T200000
LOCATION:https://www.learndesk.us/class/4510222909440000/lesson/cd7f2b989e793f87038c3e91037a805f?ref=outlook-calendar
DESCRIPTION: https://www.learndesk.us/class/4510222909440000/lesson/cd7f2b989e793f87038c3e91037a805f?ref=outlook-calendar
STATUS:CONFIRMED
SEQUENCE:3
BEGIN:VALARM
TRIGGER:-PT10M
DESCRIPTION:Class Reminder
ACTION:DISPLAY
END:VALARM
END:VEVENT
END:VCALENDAR