BEGIN:VCALENDAR
VERSION:2.0
CALSCALE:GREGORIAN
BEGIN:VEVENT
URL:https://www.learndesk.us/class/4510222909440000/lesson/c73333cd1683027289f34c6a761db45f?ref=outlook-calendar
SUMMARY:Configure the Connected the LUN as Datastore in ESXi Host
DTSTART;TZID=America/Los_Angeles:20260420T190000
DTEND;TZID=America/Los_Angeles:20260420T200000
LOCATION:https://www.learndesk.us/class/4510222909440000/lesson/c73333cd1683027289f34c6a761db45f?ref=outlook-calendar
DESCRIPTION: https://www.learndesk.us/class/4510222909440000/lesson/c73333cd1683027289f34c6a761db45f?ref=outlook-calendar
STATUS:CONFIRMED
SEQUENCE:3
BEGIN:VALARM
TRIGGER:-PT10M
DESCRIPTION:Class Reminder
ACTION:DISPLAY
END:VALARM
END:VEVENT
END:VCALENDAR