BEGIN:VCALENDAR
VERSION:2.0
CALSCALE:GREGORIAN
BEGIN:VEVENT
URL:https://www.learndesk.us/class/4510222909440000/lesson/86320b15efe328e36a4c443bd3270b26?ref=outlook-calendar
SUMMARY:VMware Virtual Infrastructure Products
DTSTART;TZID=America/Los_Angeles:20260422T190000
DTEND;TZID=America/Los_Angeles:20260422T200000
LOCATION:https://www.learndesk.us/class/4510222909440000/lesson/86320b15efe328e36a4c443bd3270b26?ref=outlook-calendar
DESCRIPTION: https://www.learndesk.us/class/4510222909440000/lesson/86320b15efe328e36a4c443bd3270b26?ref=outlook-calendar
STATUS:CONFIRMED
SEQUENCE:3
BEGIN:VALARM
TRIGGER:-PT10M
DESCRIPTION:Class Reminder
ACTION:DISPLAY
END:VALARM
END:VEVENT
END:VCALENDAR