BEGIN:VCALENDAR
VERSION:2.0
CALSCALE:GREGORIAN
BEGIN:VEVENT
URL:https://www.learndesk.us/class/4510222909440000/lesson/5b693b28ca4b86102d761f2fec7bad13?ref=outlook-calendar
SUMMARY:Create NFS Share
DTSTART;TZID=America/Los_Angeles:20260420T190000
DTEND;TZID=America/Los_Angeles:20260420T200000
LOCATION:https://www.learndesk.us/class/4510222909440000/lesson/5b693b28ca4b86102d761f2fec7bad13?ref=outlook-calendar
DESCRIPTION: https://www.learndesk.us/class/4510222909440000/lesson/5b693b28ca4b86102d761f2fec7bad13?ref=outlook-calendar
STATUS:CONFIRMED
SEQUENCE:3
BEGIN:VALARM
TRIGGER:-PT10M
DESCRIPTION:Class Reminder
ACTION:DISPLAY
END:VALARM
END:VEVENT
END:VCALENDAR