BEGIN:VCALENDAR
VERSION:2.0
CALSCALE:GREGORIAN
BEGIN:VEVENT
URL:https://www.learndesk.us/class-zh/6455744046039040/lesson/e3a543ded2bb7fc23be4668ce31be57f?ref=outlook-calendar
SUMMARY:机会与障碍
DTSTART;TZID=America/Los_Angeles:20260420T190000
DTEND;TZID=America/Los_Angeles:20260420T200000
LOCATION:https://www.learndesk.us/class-zh/6455744046039040/lesson/e3a543ded2bb7fc23be4668ce31be57f?ref=outlook-calendar
DESCRIPTION: https://www.learndesk.us/class-zh/6455744046039040/lesson/e3a543ded2bb7fc23be4668ce31be57f?ref=outlook-calendar
STATUS:CONFIRMED
SEQUENCE:3
BEGIN:VALARM
TRIGGER:-PT10M
DESCRIPTION:Class Reminder
ACTION:DISPLAY
END:VALARM
END:VEVENT
END:VCALENDAR