BEGIN:VCALENDAR
VERSION:2.0
CALSCALE:GREGORIAN
BEGIN:VEVENT
URL:https://www.learndesk.us/class-zh/6455744046039040/lesson/d3e24b0bf5bc00130e1a713e5f74fb7a?ref=outlook-calendar
SUMMARY:冥想- 调整潜意识的财务范围
DTSTART;TZID=America/Los_Angeles:20260422T190000
DTEND;TZID=America/Los_Angeles:20260422T200000
LOCATION:https://www.learndesk.us/class-zh/6455744046039040/lesson/d3e24b0bf5bc00130e1a713e5f74fb7a?ref=outlook-calendar
DESCRIPTION: https://www.learndesk.us/class-zh/6455744046039040/lesson/d3e24b0bf5bc00130e1a713e5f74fb7a?ref=outlook-calendar
STATUS:CONFIRMED
SEQUENCE:3
BEGIN:VALARM
TRIGGER:-PT10M
DESCRIPTION:Class Reminder
ACTION:DISPLAY
END:VALARM
END:VEVENT
END:VCALENDAR