BEGIN:VCALENDAR
VERSION:2.0
CALSCALE:GREGORIAN
BEGIN:VEVENT
URL:https://www.learndesk.us/class-zh/6455744046039040/lesson/ad6c935c1589b3562918f62f8dab5fc3?ref=outlook-calendar
SUMMARY:冥想 – 祝贺成功的宴会
DTSTART;TZID=America/Los_Angeles:20260420T190000
DTEND;TZID=America/Los_Angeles:20260420T200000
LOCATION:https://www.learndesk.us/class-zh/6455744046039040/lesson/ad6c935c1589b3562918f62f8dab5fc3?ref=outlook-calendar
DESCRIPTION: https://www.learndesk.us/class-zh/6455744046039040/lesson/ad6c935c1589b3562918f62f8dab5fc3?ref=outlook-calendar
STATUS:CONFIRMED
SEQUENCE:3
BEGIN:VALARM
TRIGGER:-PT10M
DESCRIPTION:Class Reminder
ACTION:DISPLAY
END:VALARM
END:VEVENT
END:VCALENDAR