BEGIN:VCALENDAR
VERSION:2.0
CALSCALE:GREGORIAN
BEGIN:VEVENT
URL:https://www.learndesk.us/class-zh/6455744046039040/lesson/85517ab413955df01730be23827a7e7d?ref=outlook-calendar
SUMMARY:冥想 - 专注在理想事物
DTSTART;TZID=America/Los_Angeles:20260420T190000
DTEND;TZID=America/Los_Angeles:20260420T200000
LOCATION:https://www.learndesk.us/class-zh/6455744046039040/lesson/85517ab413955df01730be23827a7e7d?ref=outlook-calendar
DESCRIPTION: https://www.learndesk.us/class-zh/6455744046039040/lesson/85517ab413955df01730be23827a7e7d?ref=outlook-calendar
STATUS:CONFIRMED
SEQUENCE:3
BEGIN:VALARM
TRIGGER:-PT10M
DESCRIPTION:Class Reminder
ACTION:DISPLAY
END:VALARM
END:VEVENT
END:VCALENDAR