BEGIN:VCALENDAR
VERSION:2.0
CALSCALE:GREGORIAN
BEGIN:VEVENT
URL:https://www.learndesk.us/class-zh/6455744046039040/lesson/14cde98a513154f20dc7476edfeb3f96?ref=outlook-calendar
SUMMARY:跳脱混淆的概念
DTSTART;TZID=America/Los_Angeles:20260422T190000
DTEND;TZID=America/Los_Angeles:20260422T200000
LOCATION:https://www.learndesk.us/class-zh/6455744046039040/lesson/14cde98a513154f20dc7476edfeb3f96?ref=outlook-calendar
DESCRIPTION: https://www.learndesk.us/class-zh/6455744046039040/lesson/14cde98a513154f20dc7476edfeb3f96?ref=outlook-calendar
STATUS:CONFIRMED
SEQUENCE:3
BEGIN:VALARM
TRIGGER:-PT10M
DESCRIPTION:Class Reminder
ACTION:DISPLAY
END:VALARM
END:VEVENT
END:VCALENDAR