BEGIN:VCALENDAR
VERSION:2.0
CALSCALE:GREGORIAN
BEGIN:VEVENT
URL:https://www.learndesk.us/class-zh/5621270219587584/lesson/d9ac4d1474fdcbe31a931a6e8229ea8c?ref=outlook-calendar
SUMMARY:肢体语言一：概述及眼睛的讯息
DTSTART;TZID=America/Los_Angeles:20260425T190000
DTEND;TZID=America/Los_Angeles:20260425T200000
LOCATION:https://www.learndesk.us/class-zh/5621270219587584/lesson/d9ac4d1474fdcbe31a931a6e8229ea8c?ref=outlook-calendar
DESCRIPTION: https://www.learndesk.us/class-zh/5621270219587584/lesson/d9ac4d1474fdcbe31a931a6e8229ea8c?ref=outlook-calendar
STATUS:CONFIRMED
SEQUENCE:3
BEGIN:VALARM
TRIGGER:-PT10M
DESCRIPTION:Class Reminder
ACTION:DISPLAY
END:VALARM
END:VEVENT
END:VCALENDAR