BEGIN:VCALENDAR
VERSION:2.0
CALSCALE:GREGORIAN
BEGIN:VEVENT
URL:https://www.learndesk.us/class-zh/5621270219587584/lesson/d6d89869faaf77b0916dd316188e3bfb?ref=outlook-calendar
SUMMARY:第四章 肢体语言的应用及解读 小测验
DTSTART;TZID=America/Los_Angeles:20260425T190000
DTEND;TZID=America/Los_Angeles:20260425T200000
LOCATION:https://www.learndesk.us/class-zh/5621270219587584/lesson/d6d89869faaf77b0916dd316188e3bfb?ref=outlook-calendar
DESCRIPTION: https://www.learndesk.us/class-zh/5621270219587584/lesson/d6d89869faaf77b0916dd316188e3bfb?ref=outlook-calendar
STATUS:CONFIRMED
SEQUENCE:3
BEGIN:VALARM
TRIGGER:-PT10M
DESCRIPTION:Class Reminder
ACTION:DISPLAY
END:VALARM
END:VEVENT
END:VCALENDAR