BEGIN:VCALENDAR
VERSION:2.0
CALSCALE:GREGORIAN
BEGIN:VEVENT
URL:https://www.learndesk.us/class-zh/5621270219587584/lesson/8e75adf4ff449b33a068f5dd1ac9587f?ref=outlook-calendar
SUMMARY:第一印象是根基也是关键(一)
DTSTART;TZID=America/Los_Angeles:20260425T190000
DTEND;TZID=America/Los_Angeles:20260425T200000
LOCATION:https://www.learndesk.us/class-zh/5621270219587584/lesson/8e75adf4ff449b33a068f5dd1ac9587f?ref=outlook-calendar
DESCRIPTION: https://www.learndesk.us/class-zh/5621270219587584/lesson/8e75adf4ff449b33a068f5dd1ac9587f?ref=outlook-calendar
STATUS:CONFIRMED
SEQUENCE:3
BEGIN:VALARM
TRIGGER:-PT10M
DESCRIPTION:Class Reminder
ACTION:DISPLAY
END:VALARM
END:VEVENT
END:VCALENDAR