BEGIN:VCALENDAR
VERSION:2.0
CALSCALE:GREGORIAN
BEGIN:VEVENT
URL:https://www.learndesk.us/class-zh/5621270219587584/lesson/8b47dc501e61de9041ee56690c6d3f2c?ref=outlook-calendar
SUMMARY:第一印象是根基也是关键(二)
DTSTART;TZID=America/Los_Angeles:20260425T190000
DTEND;TZID=America/Los_Angeles:20260425T200000
LOCATION:https://www.learndesk.us/class-zh/5621270219587584/lesson/8b47dc501e61de9041ee56690c6d3f2c?ref=outlook-calendar
DESCRIPTION: https://www.learndesk.us/class-zh/5621270219587584/lesson/8b47dc501e61de9041ee56690c6d3f2c?ref=outlook-calendar
STATUS:CONFIRMED
SEQUENCE:3
BEGIN:VALARM
TRIGGER:-PT10M
DESCRIPTION:Class Reminder
ACTION:DISPLAY
END:VALARM
END:VEVENT
END:VCALENDAR