BEGIN:VCALENDAR
VERSION:2.0
CALSCALE:GREGORIAN
BEGIN:VEVENT
URL:https://www.learndesk.us/class-zh/5621270219587584/lesson/5ce39cdcb64e6adac121e220e3c70c8e?ref=outlook-calendar
SUMMARY:握手了解别人的性格
DTSTART;TZID=America/Los_Angeles:20260425T190000
DTEND;TZID=America/Los_Angeles:20260425T200000
LOCATION:https://www.learndesk.us/class-zh/5621270219587584/lesson/5ce39cdcb64e6adac121e220e3c70c8e?ref=outlook-calendar
DESCRIPTION: https://www.learndesk.us/class-zh/5621270219587584/lesson/5ce39cdcb64e6adac121e220e3c70c8e?ref=outlook-calendar
STATUS:CONFIRMED
SEQUENCE:3
BEGIN:VALARM
TRIGGER:-PT10M
DESCRIPTION:Class Reminder
ACTION:DISPLAY
END:VALARM
END:VEVENT
END:VCALENDAR