BEGIN:VCALENDAR
VERSION:2.0
CALSCALE:GREGORIAN
BEGIN:VEVENT
URL:https://www.learndesk.us/class-nl/6117162525655040/lesson/c11070f8410ded694770e926162d6075?ref=outlook-calendar
SUMMARY:Hoe Nu Verder
DTSTART;TZID=America/Los_Angeles:20260421T190000
DTEND;TZID=America/Los_Angeles:20260421T200000
LOCATION:https://www.learndesk.us/class-nl/6117162525655040/lesson/c11070f8410ded694770e926162d6075?ref=outlook-calendar
DESCRIPTION: Tot zover deze module waarin je kennis hebt gemaakt met de vervolgstappen van een slimmere manier van leren en er opnieuw veel tips aan de orde zijn gekomen om meteen toe te passen.Het belang van ondersteuning is aangegeven en vooral hoe de ondersteuning kan worden gegeven Heel veel succes met het toepassen van deze training onderdelen&nbsp; Slim leren is &eacute;&eacute;n ding, maar er moeten ook opgaven en toetsen gemaakt worden.De vervolgmodules die hierover gaan, staan al voor je klaar De eerst volgende module heet 'Opgaven maken'. Daarin wordt het geheim onthuld hoe je op een handige manier opgaven aanpakt (module 3). Een korte beschrijving van de inhoud van deze module is hier te vinden. Bekijk hier wat 'Slimmer en Handiger Leren' verder nog voor je in petto heeft. Zoals de module&nbsp; 'Hoe je de beste planningen maakt'. Tot ziens.

https://www.learndesk.us/class-nl/6117162525655040/lesson/c11070f8410ded694770e926162d6075?ref=outlook-calendar
STATUS:CONFIRMED
SEQUENCE:3
BEGIN:VALARM
TRIGGER:-PT10M
DESCRIPTION:Class Reminder
ACTION:DISPLAY
END:VALARM
END:VEVENT
END:VCALENDAR