BEGIN:VCALENDAR
VERSION:2.0
CALSCALE:GREGORIAN
BEGIN:VEVENT
URL:https://www.learndesk.us/class-nl/6117162525655040/lesson/95d20422f7c7bd60a5cab5dc7ab61740?ref=outlook-calendar
SUMMARY:Werkblad - Snel Voorbereiden
DTSTART;TZID=America/Los_Angeles:20260420T190000
DTEND;TZID=America/Los_Angeles:20260420T200000
LOCATION:https://www.learndesk.us/class-nl/6117162525655040/lesson/95d20422f7c7bd60a5cab5dc7ab61740?ref=outlook-calendar
DESCRIPTION: Dit werkblad helpt je met de opzet voor het snel voorbereiden. Het gaat vooral om de manier van opschrijven van de vaktaal woorden en hun betekenis. Plus het vrij houden van ruimte om de aantekeningen in de les te kunnen opschrijven. Het werkt het handigst als je een ringband gebruikt.

https://www.learndesk.us/class-nl/6117162525655040/lesson/95d20422f7c7bd60a5cab5dc7ab61740?ref=outlook-calendar
STATUS:CONFIRMED
SEQUENCE:3
BEGIN:VALARM
TRIGGER:-PT10M
DESCRIPTION:Class Reminder
ACTION:DISPLAY
END:VALARM
END:VEVENT
END:VCALENDAR