BEGIN:VCALENDAR
VERSION:2.0
CALSCALE:GREGORIAN
BEGIN:VEVENT
URL:https://www.learndesk.us/class-nl/5782302481186816/lesson/ed8ed5d257a5918c84807fec419ef488?ref=outlook-calendar
SUMMARY:Hoe te helpen bij Handig Leren
DTSTART;TZID=America/Los_Angeles:20260425T190000
DTEND;TZID=America/Los_Angeles:20260425T200000
LOCATION:https://www.learndesk.us/class-nl/5782302481186816/lesson/ed8ed5d257a5918c84807fec419ef488?ref=outlook-calendar
DESCRIPTION: Houvast en overzicht zijn erg belangrijk bij het leren.Maar ook doorzetten hoort daarbij...Leren is een onzekere bezigheid. Want... wanneer ken je de stof goed genoeg En.. niet vergeten - je wordt steeds getoetst en beoordeeld. Want of je nou een tiener bent of je volgt een cursus of avondstudie naast je gewone dagelijkse bezigheden, het is lastig om gefocust te blijven in de constant aandacht vragende en roerige omgeving. Daar kun je best een beetje hulp en begrip bij gebruiken.

https://www.learndesk.us/class-nl/5782302481186816/lesson/ed8ed5d257a5918c84807fec419ef488?ref=outlook-calendar
STATUS:CONFIRMED
SEQUENCE:3
BEGIN:VALARM
TRIGGER:-PT10M
DESCRIPTION:Class Reminder
ACTION:DISPLAY
END:VALARM
END:VEVENT
END:VCALENDAR