BEGIN:VCALENDAR
VERSION:2.0
CALSCALE:GREGORIAN
BEGIN:VEVENT
URL:https://www.learndesk.us/class-nl/5661302716366848/lesson/96d99eb76a8ceedba8e90c84bae906e6?ref=outlook-calendar
SUMMARY:Hoe Maak je een planning Voor een Toets (proefwerk)
DTSTART;TZID=America/Los_Angeles:20260420T190000
DTEND;TZID=America/Los_Angeles:20260420T200000
LOCATION:https://www.learndesk.us/class-nl/5661302716366848/lesson/96d99eb76a8ceedba8e90c84bae906e6?ref=outlook-calendar
DESCRIPTION: Help
Een overhoring of een proefwerk wordt in de onderbouw van de middelbare school vaak precies 1 week van te voren opgegeven.
Geen reden tot paniek want met deze manier maak je (samen) snel een toetsplanning.
Success

https://www.learndesk.us/class-nl/5661302716366848/lesson/96d99eb76a8ceedba8e90c84bae906e6?ref=outlook-calendar
STATUS:CONFIRMED
SEQUENCE:3
BEGIN:VALARM
TRIGGER:-PT10M
DESCRIPTION:Class Reminder
ACTION:DISPLAY
END:VALARM
END:VEVENT
END:VCALENDAR