BEGIN:VCALENDAR
VERSION:2.0
CALSCALE:GREGORIAN
BEGIN:VEVENT
URL:https://www.learndesk.us/class-nl/5661302716366848/lesson/41dc474fee9bcf533db72e70cf6ee147?ref=outlook-calendar
SUMMARY: Hoe te Helpen bij het Maken van een Planning? - 1
DTSTART;TZID=America/Los_Angeles:20260420T190000
DTEND;TZID=America/Los_Angeles:20260420T200000
LOCATION:https://www.learndesk.us/class-nl/5661302716366848/lesson/41dc474fee9bcf533db72e70cf6ee147?ref=outlook-calendar
DESCRIPTION: Ik heb al eerder aangegeven dat leren een onzekere bezigheid is.Immers... wanneer ken je de stof goed genoeg?
Houvast en overzicht zijn daarom erg belangrijk bij het leren.Maar ook doorzetten hoort daarbij...
Een planning maken helpt bij het verkrijgen van overzicht. Dat geeft rust, want je weet waar je aan toe bent. Het haalt het onzekere gevoel weg.
Want of je nou een tiener bent of een volwassene die een cursus of avondstudie volgt, het is handig om overzicht te hebben.
Eigenlijk kan iedereen daarbij best een beetje hulp gebruiken ;-)

https://www.learndesk.us/class-nl/5661302716366848/lesson/41dc474fee9bcf533db72e70cf6ee147?ref=outlook-calendar
STATUS:CONFIRMED
SEQUENCE:3
BEGIN:VALARM
TRIGGER:-PT10M
DESCRIPTION:Class Reminder
ACTION:DISPLAY
END:VALARM
END:VEVENT
END:VCALENDAR