BEGIN:VCALENDAR
VERSION:2.0
CALSCALE:GREGORIAN
BEGIN:VEVENT
URL:https://www.learndesk.us/class-nl/5661302716366848/lesson/3cf037401e96e98b38c0faa1073ad455?ref=outlook-calendar
SUMMARY:Hej, dit gaan we doen.
DTSTART;TZID=America/Los_Angeles:20260420T190000
DTEND;TZID=America/Los_Angeles:20260420T200000
LOCATION:https://www.learndesk.us/class-nl/5661302716366848/lesson/3cf037401e96e98b38c0faa1073ad455?ref=outlook-calendar
DESCRIPTION: 
Wat staat er op het programma..
Wat bedoelen we precies met een planning? komt als eerste aan bod. Er zijn vele soorten planningen, ook leerplanningen, dus het is goed om duidelijk te hebben wat er binnen deze training mee wordt bedoeld. Mijn ervaring is ook dat daar soms vervelende misverstanden over zijn.
Daarna gaan we aan de slag met het uitleggen Hoe je een goede planning maakt. Als eerste kijken we naar een planning voor een schriftelijke overhoring of een toets. Een dergelijke planning heb je vaak nodig. Daarna wordt uitgelegd hoe het maken van een planning werkt voor het leren van een tentamen.
Natuurlijk wordt ook weer uitgelegd hoe je kunt helpen bij het maken van een planning.
Het maken van een planning bij zelfstudie is de laatste en moeilijkste planning die wordt behandeld.
Na het plannen en leren voor een toets, komt het maken van de toets zelf. In de paragraaf 'De manier om relaxed een toets te maken' komt dit slotstuk aan bod.
Succes met deze vierde module

https://www.learndesk.us/class-nl/5661302716366848/lesson/3cf037401e96e98b38c0faa1073ad455?ref=outlook-calendar
STATUS:CONFIRMED
SEQUENCE:3
BEGIN:VALARM
TRIGGER:-PT10M
DESCRIPTION:Class Reminder
ACTION:DISPLAY
END:VALARM
END:VEVENT
END:VCALENDAR