BEGIN:VCALENDAR
VERSION:2.0
CALSCALE:GREGORIAN
BEGIN:VEVENT
URL:https://www.learndesk.us/class-nl/5661302716366848/lesson/08e7e30ef05002cf651e55829f184baa?ref=outlook-calendar
SUMMARY:Samenvatting - Planning Maken voor een Tentamen
DTSTART;TZID=America/Los_Angeles:20260422T190000
DTEND;TZID=America/Los_Angeles:20260422T200000
LOCATION:https://www.learndesk.us/class-nl/5661302716366848/lesson/08e7e30ef05002cf651e55829f184baa?ref=outlook-calendar
DESCRIPTION: Deze samenvatting geeft het voorgaande op een andere wijze kort weer. Dat maakt het soms net even duidelijker en beter om te onthouden.
Bij het maken van een planning voor een tentamen (of schoolexamen)&nbsp; maak je vanuit de weekplanning nog een extra vertaalslag naar de schooldagen.
Doe er je voordeel mee.

https://www.learndesk.us/class-nl/5661302716366848/lesson/08e7e30ef05002cf651e55829f184baa?ref=outlook-calendar
STATUS:CONFIRMED
SEQUENCE:3
BEGIN:VALARM
TRIGGER:-PT10M
DESCRIPTION:Class Reminder
ACTION:DISPLAY
END:VALARM
END:VEVENT
END:VCALENDAR