BEGIN:VCALENDAR
VERSION:2.0
CALSCALE:GREGORIAN
BEGIN:VEVENT
URL:https://www.learndesk.us/class-nl/4782887096287232/lesson/e7ed7f57ee3428dad70c442812289f1b?ref=outlook-calendar
SUMMARY:Verwachtingen lees: en schrijfwerk
DTSTART;TZID=America/Los_Angeles:20260420T190000
DTEND;TZID=America/Los_Angeles:20260420T200000
LOCATION:https://www.learndesk.us/class-nl/4782887096287232/lesson/e7ed7f57ee3428dad70c442812289f1b?ref=outlook-calendar
DESCRIPTION: In het vervolg onderwijs wordt het nodige van de leerlingen en studenten verwacht.
In deze video bespreek ik de verwachtingen met betrekking tot het lezen en het schrijven.
Besef dat.
wat verwacht wordt niet altijd vanzelf goed gaat.

https://www.learndesk.us/class-nl/4782887096287232/lesson/e7ed7f57ee3428dad70c442812289f1b?ref=outlook-calendar
STATUS:CONFIRMED
SEQUENCE:3
BEGIN:VALARM
TRIGGER:-PT10M
DESCRIPTION:Class Reminder
ACTION:DISPLAY
END:VALARM
END:VEVENT
END:VCALENDAR