BEGIN:VCALENDAR
VERSION:2.0
CALSCALE:GREGORIAN
BEGIN:VEVENT
URL:https://www.learndesk.us/class-nl/4782887096287232/lesson/5a4013118ad2a02dd4d389eccb9991de?ref=outlook-calendar
SUMMARY:Samenvatting: Begrippen en woordjes leren
DTSTART;TZID=America/Los_Angeles:20260420T190000
DTEND;TZID=America/Los_Angeles:20260420T200000
LOCATION:https://www.learndesk.us/class-nl/4782887096287232/lesson/5a4013118ad2a02dd4d389eccb9991de?ref=outlook-calendar
DESCRIPTION: https://www.learndesk.us/class-nl/4782887096287232/lesson/5a4013118ad2a02dd4d389eccb9991de?ref=outlook-calendar
STATUS:CONFIRMED
SEQUENCE:3
BEGIN:VALARM
TRIGGER:-PT10M
DESCRIPTION:Class Reminder
ACTION:DISPLAY
END:VALARM
END:VEVENT
END:VCALENDAR