BEGIN:VCALENDAR
VERSION:2.0
CALSCALE:GREGORIAN
BEGIN:VEVENT
URL:https://www.learndesk.us/class-nl/4774657737621504/lesson/eee86d53aa991d9eba358b35d3a6f2df?ref=outlook-calendar
SUMMARY:Before work yoga les 3
DTSTART;TZID=America/Los_Angeles:20260420T190000
DTEND;TZID=America/Los_Angeles:20260420T200000
LOCATION:https://www.learndesk.us/class-nl/4774657737621504/lesson/eee86d53aa991d9eba358b35d3a6f2df?ref=outlook-calendar
DESCRIPTION: https://vimeo.com/496478797/d098739b4f

https://www.learndesk.us/class-nl/4774657737621504/lesson/eee86d53aa991d9eba358b35d3a6f2df?ref=outlook-calendar
STATUS:CONFIRMED
SEQUENCE:3
BEGIN:VALARM
TRIGGER:-PT10M
DESCRIPTION:Class Reminder
ACTION:DISPLAY
END:VALARM
END:VEVENT
END:VCALENDAR