BEGIN:VCALENDAR
VERSION:2.0
CALSCALE:GREGORIAN
BEGIN:VEVENT
URL:https://www.learndesk.us/class-nl/4565786700021760/lesson/ef4e20c7d9496781013d33f243eeceb0?ref=outlook-calendar
SUMMARY:Merkidentiteit verkennen
DTSTART;TZID=America/Los_Angeles:20260422T190000
DTEND;TZID=America/Los_Angeles:20260422T200000
LOCATION:https://www.learndesk.us/class-nl/4565786700021760/lesson/ef4e20c7d9496781013d33f243eeceb0?ref=outlook-calendar
DESCRIPTION: Maak de flavor and favor opdracht:&nbsp;
Nu je de achtergrond kent van Merkidentiteit, kun je van start met het&nbsp;visualiseren van jouw identiteit en persoonlijke stijl. Flavor and favor opdracht maakt inzichtelijk wie jij persoonlijk bent en wat je voorkeuren zijn. De uitwerking geeft je een visueel vertrekpunt van waaruit je het MERK IK kunt gaan opbouwen.

Stap 1: Collage maken zie uitleg hieronder
Stap 2: Collage delen voor feedback

&nbsp;

&nbsp;
Hierboven zie je de favor and flavor tabel staan met verschillende smaakrubrieken in willekeurige volgorde.
Wat is de bedoeling?

Kies daaruit tenminste 10 rubrieken op gevoel&nbsp;
Je favoriete kleur moet er in ieder geval tussen zitten
Schrijf jouw voorkeur per gekozen rubriek
Zoek bij ieder rubriek een passend beeld, fysiek en/of online
Maak een collage met de beelden die je gevonden hebt

De collage kun je uitwerken in bijvoorbeeld Pinterest, Photoshop of Powerpoint&nbsp;of in een andere app&nbsp;maken. Maar je mag natuurlijk...

https://www.learndesk.us/class-nl/4565786700021760/lesson/ef4e20c7d9496781013d33f243eeceb0?ref=outlook-calendar
STATUS:CONFIRMED
SEQUENCE:3
BEGIN:VALARM
TRIGGER:-PT10M
DESCRIPTION:Class Reminder
ACTION:DISPLAY
END:VALARM
END:VEVENT
END:VCALENDAR