BEGIN:VCALENDAR
VERSION:2.0
CALSCALE:GREGORIAN
BEGIN:VEVENT
URL:https://www.learndesk.us/class-nl/4565786700021760/lesson/e2b907fb8ebfd9523cbc68092deeebe2?ref=outlook-calendar
SUMMARY:De Ideale Klant
DTSTART;TZID=America/Los_Angeles:20260420T190000
DTEND;TZID=America/Los_Angeles:20260420T200000
LOCATION:https://www.learndesk.us/class-nl/4565786700021760/lesson/e2b907fb8ebfd9523cbc68092deeebe2?ref=outlook-calendar
DESCRIPTION: In mijn praktijk krijg ik regelmatig de vraag hoe weet ik wie mijn ideale klant is. En hoe vind ik die? In de komende lessen ga ik je helpen om jouw doelgroep(en) te bepalen, jouw ideale klant te onderzoeken en te vinden. Het aangaan van een klantrelatie heeft veel raakvlakken met het aangaan en onderhouden van relaties in het dagelijkse leven. Je moet je kunnen verplaatsen in de ander en weten wat de behoeftes zijn. En weten en voelen of je op dezelfde golflengte zit.&nbsp;

De klant moet aantrekkelijk zijn voor jouw onderneming in brede zin. Aan de andere kant moet je (potenti&euml;le) klant een beetje verliefd worden op de merkpropositie en het Merk IK zien als een ideale partner op lange termijn. In de video vertel ik je hoe je de basis legt voor klantkennis en welke stappen je moet nemen.


https://www.learndesk.us/class-nl/4565786700021760/lesson/e2b907fb8ebfd9523cbc68092deeebe2?ref=outlook-calendar
STATUS:CONFIRMED
SEQUENCE:3
BEGIN:VALARM
TRIGGER:-PT10M
DESCRIPTION:Class Reminder
ACTION:DISPLAY
END:VALARM
END:VEVENT
END:VCALENDAR