BEGIN:VCALENDAR
VERSION:2.0
CALSCALE:GREGORIAN
BEGIN:VEVENT
URL:https://www.learndesk.us/class-nl/4565786700021760/lesson/dd7c180b75302b8f8d0bb9c2c974eb83?ref=outlook-calendar
SUMMARY:Jouw Publiek
DTSTART;TZID=America/Los_Angeles:20260420T190000
DTEND;TZID=America/Los_Angeles:20260420T200000
LOCATION:https://www.learndesk.us/class-nl/4565786700021760/lesson/dd7c180b75302b8f8d0bb9c2c974eb83?ref=outlook-calendar
DESCRIPTION: In deze les leer je in kaart te brengen met welke mensen je het beste kunt connecten en samenwerken. Zo leer je ook focus te krijgen in het onderhouden van je zakelijke relaties en het benaderen van klanten. Wie inspireert je, wie kan je echt helpen en van wie krijg je energie. Zoek je eigen "Tribe" werk samen in een natuurlijke flow en maak samen synergie. Je kunt natuurlijk ook als je daar behoefte aan hebt dit principe toepassen op je persoonlijke leven.&nbsp;&nbsp;
Hoe vul je het werkblad&nbsp; onder downloads in? Maak per segment een lijst met mensen, collega's, merken, klanten, bedrijven en organisaties in je directe zakelijke omgeving. De focus ligt op de A-natives, dus wees eerlijk en volg je gevoel wie hier echt in thuis hoort. Soms kan dat betekenen dat je omzet moet missen, maar let maar op uiteindelijk zal het je veel meer in brede zin op gaan leveren. Waarschijnlijk zul je op basis van de uitkomsten keuzes gaan maken in wie je wel of minder tijd gaat steken. Doe dat op...

https://www.learndesk.us/class-nl/4565786700021760/lesson/dd7c180b75302b8f8d0bb9c2c974eb83?ref=outlook-calendar
STATUS:CONFIRMED
SEQUENCE:3
BEGIN:VALARM
TRIGGER:-PT10M
DESCRIPTION:Class Reminder
ACTION:DISPLAY
END:VALARM
END:VEVENT
END:VCALENDAR