BEGIN:VCALENDAR
VERSION:2.0
CALSCALE:GREGORIAN
BEGIN:VEVENT
URL:https://www.learndesk.us/class-nl/4565786700021760/lesson/a588f8ed1038c25273061d25151a4e64?ref=outlook-calendar
SUMMARY:Communiceren Met de Ideale Klant
DTSTART;TZID=America/Los_Angeles:20260420T190000
DTEND;TZID=America/Los_Angeles:20260420T200000
LOCATION:https://www.learndesk.us/class-nl/4565786700021760/lesson/a588f8ed1038c25273061d25151a4e64?ref=outlook-calendar
DESCRIPTION: In deze les ga je verkennen hoe je gaat communiceren met de ideale klant. Communiceren is niet alleen maar zenden, maar elkaar ook echt begrijpen. Dat je weet en voelt wat de ander wil en bedoelt te zeggen. Communicatie is gekleurd. Cultuur, opvoeding, ,status, ervaringen en identiteit bepalen de wijze waarop mensen met elkaar communiceren. Communicatie is gelaagd... we communiceren op verschillende niveaus, vanuit ons bewuste en onbewuste brein.&nbsp;

"Vanuit verbinding communiceren = authentiek verkopen"
Dat geldt ook voor communicatie met de ideale klant, waarbij een Merk verbinding probeert te maken tussen het probleem van de klant en de oplossing, de Merkpropositie. Daarmee wordt echte waarde en interactie gecre&euml;erd. Dat klinkt eenvoudiger dan het is. Het is een uitdaging en kans om "het Merk" (de zender) los te laten en echt te focussen op en te verdiepen in de doelgroep (de ontvanger) Dat er een waardevol antwoord wordt gegeven op een essenti&euml;le vraag. Onder deze...

https://www.learndesk.us/class-nl/4565786700021760/lesson/a588f8ed1038c25273061d25151a4e64?ref=outlook-calendar
STATUS:CONFIRMED
SEQUENCE:3
BEGIN:VALARM
TRIGGER:-PT10M
DESCRIPTION:Class Reminder
ACTION:DISPLAY
END:VALARM
END:VEVENT
END:VCALENDAR