BEGIN:VCALENDAR
VERSION:2.0
CALSCALE:GREGORIAN
BEGIN:VEVENT
URL:https://www.learndesk.us/class-nl/4565786700021760/lesson/033b6e2df111e45f8177a99ecfbf8d2e?ref=outlook-calendar
SUMMARY:Mentality Model
DTSTART;TZID=America/Los_Angeles:20260420T190000
DTEND;TZID=America/Los_Angeles:20260420T200000
LOCATION:https://www.learndesk.us/class-nl/4565786700021760/lesson/033b6e2df111e45f8177a99ecfbf8d2e?ref=outlook-calendar
DESCRIPTION: In deze video leer je hoe je op basis van lifestyle en mentaliteit de ideale klant in kaart kunt brengen. Het Mentality Model ontwikkeld door Motivaction helpt je hierbij voor Business to Consumer. En met hun Business Locus Model voor Business to Business.&nbsp;
Doe hier de Mentality test
Business Locus groepen

Scroll naar beneden om meer inzicht te krijgen in deze groepen. De bijgaande moodboards met slogan zijn ook een goed voorbeeld van hoe je de ideale klant in kaart kunt brengen. Wat voor ondernemer is je klant en ben jezelf?



De Ontplooier -: Gedreven, intrinsiek gemotiveerde ondernemers die veel waarde hechten aan plezier en zelfontplooiing in hun werk. Ze zijn creatief en enthousiast en zijn op zoek naar uitdagingen. Ze worden het liefst online benaderd



De Pragmaticus -: zijn harde werkers die doen wat ze leuk vinden en sterk emotioneel betrokken zijn bij het bedrijf. No non-sense en doe maar gewoon dan doe je gek genoeg. Ze houden van een persoonlijke...

https://www.learndesk.us/class-nl/4565786700021760/lesson/033b6e2df111e45f8177a99ecfbf8d2e?ref=outlook-calendar
STATUS:CONFIRMED
SEQUENCE:3
BEGIN:VALARM
TRIGGER:-PT10M
DESCRIPTION:Class Reminder
ACTION:DISPLAY
END:VALARM
END:VEVENT
END:VCALENDAR