BEGIN:VCALENDAR
VERSION:2.0
CALSCALE:GREGORIAN
BEGIN:VEVENT
URL:https://www.learndesk.us/class-he/6721982877925376/lesson/ebe64ec8e933fff8f879203ef8ab349f?ref=outlook-calendar
SUMMARY:לחיות בשלווה פנימית חלק ד
DTSTART;TZID=America/Los_Angeles:20260425T190000
DTEND;TZID=America/Los_Angeles:20260425T200000
LOCATION:https://www.learndesk.us/class-he/6721982877925376/lesson/ebe64ec8e933fff8f879203ef8ab349f?ref=outlook-calendar
DESCRIPTION: https://www.learndesk.us/class-he/6721982877925376/lesson/ebe64ec8e933fff8f879203ef8ab349f?ref=outlook-calendar
STATUS:CONFIRMED
SEQUENCE:3
BEGIN:VALARM
TRIGGER:-PT10M
DESCRIPTION:Class Reminder
ACTION:DISPLAY
END:VALARM
END:VEVENT
END:VCALENDAR