BEGIN:VCALENDAR
VERSION:2.0
CALSCALE:GREGORIAN
BEGIN:VEVENT
URL:https://www.learndesk.us/class-he/6721982877925376/lesson/7c67b751b7bb03ae269d04ba993d1ecf?ref=outlook-calendar
SUMMARY:לחיות בשלווה פנימית חלק ד
DTSTART;TZID=America/Los_Angeles:20260423T190000
DTEND;TZID=America/Los_Angeles:20260423T200000
LOCATION:https://www.learndesk.us/class-he/6721982877925376/lesson/7c67b751b7bb03ae269d04ba993d1ecf?ref=outlook-calendar
DESCRIPTION: https://www.learndesk.us/class-he/6721982877925376/lesson/7c67b751b7bb03ae269d04ba993d1ecf?ref=outlook-calendar
STATUS:CONFIRMED
SEQUENCE:3
BEGIN:VALARM
TRIGGER:-PT10M
DESCRIPTION:Class Reminder
ACTION:DISPLAY
END:VALARM
END:VEVENT
END:VCALENDAR