BEGIN:VCALENDAR
VERSION:2.0
CALSCALE:GREGORIAN
BEGIN:VEVENT
URL:https://www.learndesk.us/class-he/6721982877925376/lesson/0b0e8976d3b2435f99e515e12ea30b56?ref=outlook-calendar
SUMMARY:קטעים נבחרים
DTSTART;TZID=America/Los_Angeles:20260423T190000
DTEND;TZID=America/Los_Angeles:20260423T200000
LOCATION:https://www.learndesk.us/class-he/6721982877925376/lesson/0b0e8976d3b2435f99e515e12ea30b56?ref=outlook-calendar
DESCRIPTION: https://www.learndesk.us/class-he/6721982877925376/lesson/0b0e8976d3b2435f99e515e12ea30b56?ref=outlook-calendar
STATUS:CONFIRMED
SEQUENCE:3
BEGIN:VALARM
TRIGGER:-PT10M
DESCRIPTION:Class Reminder
ACTION:DISPLAY
END:VALARM
END:VEVENT
END:VCALENDAR