BEGIN:VCALENDAR
VERSION:2.0
CALSCALE:GREGORIAN
BEGIN:VEVENT
URL:https://www.learndesk.us/class-he/6721982877925376/lkhyvt-bshlvvh-pnymyt?ref=outlook-calendar
SUMMARY:לחיות בשלווה פנימית
DTSTART;TZID=America/Los_Angeles:20260422T190000
DTEND;TZID=America/Los_Angeles:20260422T200000
LOCATION:https://www.learndesk.us/class-he/6721982877925376/lkhyvt-bshlvvh-pnymyt?ref=outlook-calendar
DESCRIPTION: 
כל חיינו לימדו אותנו כיצד לפעול בצורה חיצונית, לחפש הסברים, תירוצים, ואשמים כדי שלא ניאלץ לצאת מאיזור הנוחות שלנו.
אנו ממשיכים להיות תלותיים ולאפשר לסביבה החיצונית לשלוט ברגשות, בהחלטות, בדעות ובחיים שלנו.
בקורס נכיר את ארבעת העקרונות בעזרתן נדע לעבור מהמסלול בו אנו מחפשים תירוצים ואשמים למסלול בו אנו לוקחים אחריות על חיינו ושולטים בעולמנו הפנימי, חיים בשלווה פנימית ובאושר אמיתי.
מי שמחפש מילות קסם או קיצורי דרך הקורס לא מתאים לו.
לחיות בשלווה פנימית ואושר אמיתי אינם נחלתם של יחידי סגולה, כל אחד יכול! אם יש בכם רצון לעשות שינוי אמיתי לטובה בחייכם ונכונות להשקיע מאמץ ליישם את העקרונות שתלמדו, אין ספק שתצליחו עם הזמן יותר ויותר לשלוט בעולם הפנימי שלכם, לעשות שינוי מדהים בחייכם ולהשפיע לטובה על כל מעגלי החיים שסביבכם.
הקורס מתאים למבוגרים וגם לבני נוער, כי ככל שנלמד לקחת אחריות, לשלוט בעולמנו הפנימי ולפעול מתוך הנעה פנימית בגיל צעיר יותר, כך נבנה את עצמנו כמבוגרים עם נפש מאוזנת ובריאה יותר
המלצות של מי ששמע הרצאות וסדנאות דומות לזו של הקורס:
"ההרצאה נתנה לי תשובה לשאלה "מהי הדרך...

https://www.learndesk.us/class-he/6721982877925376/lkhyvt-bshlvvh-pnymyt?ref=outlook-calendar
STATUS:CONFIRMED
SEQUENCE:3
BEGIN:VALARM
TRIGGER:-PT10M
DESCRIPTION:Class Reminder
ACTION:DISPLAY
END:VALARM
END:VEVENT
END:VCALENDAR