BEGIN:VCALENDAR
VERSION:2.0
CALSCALE:GREGORIAN
BEGIN:VEVENT
URL:https://www.learndesk.us/class-he/5392492964872192/lesson/a4bc38fdecc60f2f713803a85e2d3787?ref=outlook-calendar
SUMMARY:איך וידאו משרת אותנו בעסק
DTSTART;TZID=America/Los_Angeles:20260423T190000
DTEND;TZID=America/Los_Angeles:20260423T200000
LOCATION:https://www.learndesk.us/class-he/5392492964872192/lesson/a4bc38fdecc60f2f713803a85e2d3787?ref=outlook-calendar
DESCRIPTION: https://www.learndesk.us/class-he/5392492964872192/lesson/a4bc38fdecc60f2f713803a85e2d3787?ref=outlook-calendar
STATUS:CONFIRMED
SEQUENCE:3
BEGIN:VALARM
TRIGGER:-PT10M
DESCRIPTION:Class Reminder
ACTION:DISPLAY
END:VALARM
END:VEVENT
END:VCALENDAR