BEGIN:VCALENDAR
VERSION:2.0
CALSCALE:GREGORIAN
BEGIN:VEVENT
URL:https://www.learndesk.us/class-he/5392492964872192/lesson/9dca4b2ccd3fe35331d5554bba54ab46?ref=outlook-calendar
SUMMARY:הקול כמקדם מכירות
DTSTART;TZID=America/Los_Angeles:20260424T190000
DTEND;TZID=America/Los_Angeles:20260424T200000
LOCATION:https://www.learndesk.us/class-he/5392492964872192/lesson/9dca4b2ccd3fe35331d5554bba54ab46?ref=outlook-calendar
DESCRIPTION: https://www.learndesk.us/class-he/5392492964872192/lesson/9dca4b2ccd3fe35331d5554bba54ab46?ref=outlook-calendar
STATUS:CONFIRMED
SEQUENCE:3
BEGIN:VALARM
TRIGGER:-PT10M
DESCRIPTION:Class Reminder
ACTION:DISPLAY
END:VALARM
END:VEVENT
END:VCALENDAR