BEGIN:VCALENDAR
VERSION:2.0
CALSCALE:GREGORIAN
BEGIN:VEVENT
URL:https://www.learndesk.us/class-he/5392492964872192/lesson/6ca51bcb2422301975e73d908ceb8c30?ref=outlook-calendar
SUMMARY:Introduction
DTSTART;TZID=America/Los_Angeles:20260423T190000
DTEND;TZID=America/Los_Angeles:20260423T200000
LOCATION:https://www.learndesk.us/class-he/5392492964872192/lesson/6ca51bcb2422301975e73d908ceb8c30?ref=outlook-calendar
DESCRIPTION: https://www.learndesk.us/class-he/5392492964872192/lesson/6ca51bcb2422301975e73d908ceb8c30?ref=outlook-calendar
STATUS:CONFIRMED
SEQUENCE:3
BEGIN:VALARM
TRIGGER:-PT10M
DESCRIPTION:Class Reminder
ACTION:DISPLAY
END:VALARM
END:VEVENT
END:VCALENDAR