BEGIN:VCALENDAR
VERSION:2.0
CALSCALE:GREGORIAN
BEGIN:VEVENT
URL:https://www.learndesk.us/class-he/5392492964872192/lesson/4a0c61013109e866404bc3df7a43a4c1?ref=outlook-calendar
SUMMARY:פתיח למדיטציה
DTSTART;TZID=America/Los_Angeles:20260423T190000
DTEND;TZID=America/Los_Angeles:20260423T200000
LOCATION:https://www.learndesk.us/class-he/5392492964872192/lesson/4a0c61013109e866404bc3df7a43a4c1?ref=outlook-calendar
DESCRIPTION: https://www.learndesk.us/class-he/5392492964872192/lesson/4a0c61013109e866404bc3df7a43a4c1?ref=outlook-calendar
STATUS:CONFIRMED
SEQUENCE:3
BEGIN:VALARM
TRIGGER:-PT10M
DESCRIPTION:Class Reminder
ACTION:DISPLAY
END:VALARM
END:VEVENT
END:VCALENDAR